<VRTDataset rasterXSize="405800" rasterYSize="1293680">
  <SRS dataAxisToSRSAxisMapping="1,2">PROJCS["ETRS89 / UTM zone 29N",GEOGCS["ETRS89",DATUM["European_Terrestrial_Reference_System_1989",SPHEROID["GRS 1980",6378137,298.257222101,AUTHORITY["EPSG","7019"]],AUTHORITY["EPSG","6258"]],PRIMEM["Greenwich",0,AUTHORITY["EPSG","8901"]],UNIT["degree",0.0174532925199433,AUTHORITY["EPSG","9122"]],AUTHORITY["EPSG","4258"]],PROJECTION["Transverse_Mercator"],PARAMETER["latitude_of_origin",0],PARAMETER["central_meridian",-9],PARAMETER["scale_factor",0.9996],PARAMETER["false_easting",500000],PARAMETER["false_northing",0],UNIT["metre",1,AUTHORITY["EPSG","9001"]],AXIS["Easting",EAST],AXIS["Northing",NORTH],AUTHORITY["EPSG","25829"]]</SRS>
  <GeoTransform>  6.5546000000000000e+05,  2.5000000000000000e-01,  0.0000000000000000e+00,  4.7766300000000000e+06,  0.0000000000000000e+00, -2.5000000000000000e-01</GeoTransform>
  <VRTRasterBand dataType="Byte" band="1">
    <ColorInterp>Red</ColorInterp>
    <SimpleSource>
      <SourceFilename relativeToVRT="0">P:\Cartografia\01_Ortofotografia\2025\RGB\H50_0076\PNOA-LIDAR_CyL_2025_rgb_etrs89-hu29_h05_0076_1-8.tif</SourceFilename>
      <SourceBand>1</SourceBand>
      <SourceProperties RasterXSize="14320" RasterYSize="10120" DataType="Byte" BlockXSize="512" BlockYSize="512" />
      <SrcRect xOff="0" yOff="0" xSize="14320" ySize="10120" />
      <DstRect xOff="185960" yOff="41440" xSize="14320" ySize="10120" />
    </SimpleSource>
    <SimpleSource>
      <SourceFilename relativeToVRT="0">P:\Cartografia\01_Ortofotografia\2025\RGB\H50_0076\PNOA-LIDAR_CyL_2025_rgb_etrs89-hu29_h05_0076_2-8.tif</SourceFilename>
      <SourceBand>1</SourceBand>
      <SourceProperties RasterXSize="14320" RasterYSize="10120" DataType="Byte" BlockXSize="512" BlockYSize="512" />
      <SrcRect xOff="0" yOff="0" xSize="14320" ySize="10120" />
      <DstRect xOff="199560" yOff="41040" xSize="14320" ySize="10120" />
    </SimpleSource>
    <SimpleSource>
      <SourceFilename relativeToVRT="0">P:\Cartografia\01_Ortofotografia\2025\RGB\H50_0076\PNOA-LIDAR_CyL_2025_rgb_etrs89-hu29_h05_0076_3-6.tif</SourceFilename>
      <SourceBand>1</SourceBand>
      <SourceProperties RasterXSize="14320" RasterYSize="10120" DataType="Byte" BlockXSize="512" BlockYSize="512" />
      <SrcRect xOff="0" yOff="0" xSize="14320" ySize="10120" />
      <DstRect xOff="212560" yOff="22120" xSize="14320" ySize="10120" />
    </SimpleSource>
    <SimpleSource>
      <SourceFilename relativeToVRT="0">P:\Cartografia\01_Ortofotografia\2025\RGB\H50_0076\PNOA-LIDAR_CyL_2025_rgb_etrs89-hu29_h05_0076_3-7.tif</SourceFilename>
      <SourceBand>1</SourceBand>
      <SourceProperties RasterXSize="14320" RasterYSize="10120" DataType="Byte" BlockXSize="512" BlockYSize="512" />
      <SrcRect xOff="0" yOff="0" xSize="14320" ySize="10120" />
      <DstRect xOff="212840" yOff="31360" xSize="14320" ySize="10120" />
    </SimpleSource>
    <SimpleSource>
      <SourceFilename relativeToVRT="0">P:\Cartografia\01_Ortofotografia\2025\RGB\H50_0076\PNOA-LIDAR_CyL_2025_rgb_etrs89-hu29_h05_0076_3-8.tif</SourceFilename>
      <SourceBand>1</SourceBand>
      <SourceProperties RasterXSize="14320" RasterYSize="10080" DataType="Byte" BlockXSize="512" BlockYSize="512" />
      <SrcRect xOff="0" yOff="0" xSize="14320" ySize="10080" />
      <DstRect xOff="213120" yOff="40640" xSize="14320" ySize="10080" />
    </SimpleSource>
    <SimpleSource>
      <SourceFilename relativeToVRT="0">P:\Cartografia\01_Ortofotografia\2025\RGB\H50_0076\PNOA-LIDAR_CyL_2025_rgb_etrs89-hu29_h05_0076_4-5.tif</SourceFilename>
      <SourceBand>1</SourceBand>
      <SourceProperties RasterXSize="14320" RasterYSize="10120" DataType="Byte" BlockXSize="512" BlockYSize="512" />
      <SrcRect xOff="0" yOff="0" xSize="14320" ySize="10120" />
      <DstRect xOff="225840" yOff="12440" xSize="14320" ySize="10120" />
    </SimpleSource>
    <SimpleSource>
      <SourceFilename relativeToVRT="0">P:\Cartografia\01_Ortofotografia\2025\RGB\H50_0076\PNOA-LIDAR_CyL_2025_rgb_etrs89-hu29_h05_0076_4-6.tif</SourceFilename>
      <SourceBand>1</SourceBand>
      <SourceProperties RasterXSize="14280" RasterYSize="10120" DataType="Byte" BlockXSize="512" BlockYSize="512" />
      <SrcRect xOff="0" yOff="0" xSize="14280" ySize="10120" />
      <DstRect xOff="226160" yOff="21680" xSize="14280" ySize="10120" />
    </SimpleSource>
    <SimpleSource>
      <SourceFilename relativeToVRT="0">P:\Cartografia\01_Ortofotografia\2025\RGB\H50_0076\PNOA-LIDAR_CyL_2025_rgb_etrs89-hu29_h05_0076_4-7.tif</SourceFilename>
      <SourceBand>1</SourceBand>
      <SourceProperties RasterXSize="14320" RasterYSize="10120" DataType="Byte" BlockXSize="512" BlockYSize="512" />
      <SrcRect xOff="0" yOff="0" xSize="14320" ySize="10120" />
      <DstRect xOff="226440" yOff="30960" xSize="14320" ySize="10120" />
    </SimpleSource>
    <SimpleSource>
      <SourceFilename relativeToVRT="0">P:\Cartografia\01_Ortofotografia\2025\RGB\H50_0076\PNOA-LIDAR_CyL_2025_rgb_etrs89-hu29_h05_0076_4-8.tif</SourceFilename>
      <SourceBand>1</SourceBand>
      <SourceProperties RasterXSize="14320" RasterYSize="10120" DataType="Byte" BlockXSize="512" BlockYSize="512" />
      <SrcRect xOff="0" yOff="0" xSize="14320" ySize="10120" />
      <DstRect xOff="226720" yOff="40200" xSize="14320" ySize="10120" />
    </SimpleSource>
    <SimpleSource>
      <SourceFilename relativeToVRT="0">P:\Cartografia\01_Ortofotografia\2025\RGB\H50_0076\PNOA-LIDAR_CyL_2025_rgb_etrs89-hu29_h05_0076_5-5.tif</SourceFilename>
      <SourceBand>1</SourceBand>
      <SourceProperties RasterXSize="14280" RasterYSize="10120" DataType="Byte" BlockXSize="512" BlockYSize="512" />
      <SrcRect xOff="0" yOff="0" xSize="14280" ySize="10120" />
      <DstRect xOff="239440" yOff="12000" xSize="14280" ySize="10120" />
    </SimpleSource>
    <SimpleSource>
      <SourceFilename relativeToVRT="0">P:\Cartografia\01_Ortofotografia\2025\RGB\H50_0076\PNOA-LIDAR_CyL_2025_rgb_etrs89-hu29_h05_0076_5-6.tif</SourceFilename>
      <SourceBand>1</SourceBand>
      <SourceProperties RasterXSize="14320" RasterYSize="10160" DataType="Byte" BlockXSize="512" BlockYSize="512" />
      <SrcRect xOff="0" yOff="0" xSize="14320" ySize="10160" />
      <DstRect xOff="239720" yOff="21240" xSize="14320" ySize="10160" />
    </SimpleSource>
    <SimpleSource>
      <SourceFilename relativeToVRT="0">P:\Cartografia\01_Ortofotografia\2025\RGB\H50_0076\PNOA-LIDAR_CyL_2025_rgb_etrs89-hu29_h05_0076_5-7.tif</SourceFilename>
      <SourceBand>1</SourceBand>
      <SourceProperties RasterXSize="14320" RasterYSize="10120" DataType="Byte" BlockXSize="512" BlockYSize="512" />
      <SrcRect xOff="0" yOff="0" xSize="14320" ySize="10120" />
      <DstRect xOff="240000" yOff="30520" xSize="14320" ySize="10120" />
    </SimpleSource>
    <SimpleSource>
      <SourceFilename relativeToVRT="0">P:\Cartografia\01_Ortofotografia\2025\RGB\H50_0076\PNOA-LIDAR_CyL_2025_rgb_etrs89-hu29_h05_0076_5-8.tif</SourceFilename>
      <SourceBand>1</SourceBand>
      <SourceProperties RasterXSize="14280" RasterYSize="10120" DataType="Byte" BlockXSize="512" BlockYSize="512" />
      <SrcRect xOff="0" yOff="0" xSize="14280" ySize="10120" />
      <DstRect xOff="240320" yOff="39760" xSize="14280" ySize="10120" />
    </SimpleSource>
    <SimpleSource>
      <SourceFilename relativeToVRT="0">P:\Cartografia\01_Ortofotografia\2025\RGB\H50_0076\PNOA-LIDAR_CyL_2025_rgb_etrs89-hu29_h05_0076_6-6.tif</SourceFilename>
      <SourceBand>1</SourceBand>
      <SourceProperties RasterXSize="14320" RasterYSize="10160" DataType="Byte" BlockXSize="512" BlockYSize="512" />
      <SrcRect xOff="0" yOff="0" xSize="14320" ySize="10160" />
      <DstRect xOff="253280" yOff="20800" xSize="14320" ySize="10160" />
    </SimpleSource>
    <SimpleSource>
      <SourceFilename relativeToVRT="0">P:\Cartografia\01_Ortofotografia\2025\RGB\H50_0076\PNOA-LIDAR_CyL_2025_rgb_etrs89-hu29_h05_0076_6-7.tif</SourceFilename>
      <SourceBand>1</SourceBand>
      <SourceProperties RasterXSize="14320" RasterYSize="10120" DataType="Byte" BlockXSize="512" BlockYSize="512" />
      <SrcRect xOff="0" yOff="0" xSize="14320" ySize="10120" />
      <DstRect xOff="253600" yOff="30080" xSize="14320" ySize="10120" />
    </SimpleSource>
    <SimpleSource>
      <SourceFilename relativeToVRT="0">P:\Cartografia\01_Ortofotografia\2025\RGB\H50_0076\PNOA-LIDAR_CyL_2025_rgb_etrs89-hu29_h05_0076_6-8.tif</SourceFilename>
      <SourceBand>1</SourceBand>
      <SourceProperties RasterXSize="14320" RasterYSize="10160" DataType="Byte" BlockXSize="512" BlockYSize="512" />
      <SrcRect xOff="0" yOff="0" xSize="14320" ySize="10160" />
      <DstRect xOff="253880" yOff="39320" xSize="14320" ySize="10160" />
    </SimpleSource>
    <SimpleSource>
      <SourceFilename relativeToVRT="0">P:\Cartografia\01_Ortofotografia\2025\RGB\H50_0076\PNOA-LIDAR_CyL_2025_rgb_etrs89-hu29_h05_0076_7-6.tif</SourceFilename>
      <SourceBand>1</SourceBand>
      <SourceProperties RasterXSize="14280" RasterYSize="10160" DataType="Byte" BlockXSize="512" BlockYSize="512" />
      <SrcRect xOff="0" yOff="0" xSize="14280" ySize="10160" />
      <DstRect xOff="266880" yOff="20360" xSize="14280" ySize="10160" />
    </SimpleSource>
    <SimpleSource>
      <SourceFilename relativeToVRT="0">P:\Cartografia\01_Ortofotografia\2025\RGB\H50_0076\PNOA-LIDAR_CyL_2025_rgb_etrs89-hu29_h05_0076_7-7.tif</SourceFilename>
      <SourceBand>1</SourceBand>
      <SourceProperties RasterXSize="14320" RasterYSize="10120" DataType="Byte" BlockXSize="512" BlockYSize="512" />
      <SrcRect xOff="0" yOff="0" xSize="14320" ySize="10120" />
      <DstRect xOff="267160" yOff="29640" xSize="14320" ySize="10120" />
    </SimpleSource>
    <SimpleSource>
      <SourceFilename relativeToVRT="0">P:\Cartografia\01_Ortofotografia\2025\RGB\H50_0076\PNOA-LIDAR_CyL_2025_rgb_etrs89-hu29_h05_0076_7-8.tif</SourceFilename>
      <SourceBand>1</SourceBand>
      <SourceProperties RasterXSize="14320" RasterYSize="10160" DataType="Byte" BlockXSize="512" BlockYSize="512" />
      <SrcRect xOff="0" yOff="0" xSize="14320" ySize="10160" />
      <DstRect xOff="267480" yOff="38880" xSize="14320" ySize="10160" />
    </SimpleSource>
    <SimpleSource>
      <SourceFilename relativeToVRT="0">P:\Cartografia\01_Ortofotografia\2025\RGB\H50_0076\PNOA-LIDAR_CyL_2025_rgb_etrs89-hu29_h05_0076_8-6.tif</SourceFilename>
      <SourceBand>1</SourceBand>
      <SourceProperties RasterXSize="14320" RasterYSize="10160" DataType="Byte" BlockXSize="512" BlockYSize="512" />
      <SrcRect xOff="0" yOff="0" xSize="14320" ySize="10160" />
      <DstRect xOff="280440" yOff="19920" xSize="14320" ySize="10160" />
    </SimpleSource>
    <SimpleSource>
      <SourceFilename relativeToVRT="0">P:\Cartografia\01_Ortofotografia\2025\RGB\H50_0076\PNOA-LIDAR_CyL_2025_rgb_etrs89-hu29_h05_0076_8-7.tif</SourceFilename>
      <SourceBand>1</SourceBand>
      <SourceProperties RasterXSize="14360" RasterYSize="10160" DataType="Byte" BlockXSize="512" BlockYSize="512" />
      <SrcRect xOff="0" yOff="0" xSize="14360" ySize="10160" />
      <DstRect xOff="280720" yOff="29160" xSize="14360" ySize="10160" />
    </SimpleSource>
    <SimpleSource>
      <SourceFilename relativeToVRT="0">P:\Cartografia\01_Ortofotografia\2025\RGB\H50_0076\PNOA-LIDAR_CyL_2025_rgb_etrs89-hu29_h05_0076_8-8.tif</SourceFilename>
      <SourceBand>1</SourceBand>
      <SourceProperties RasterXSize="14320" RasterYSize="10120" DataType="Byte" BlockXSize="512" BlockYSize="512" />
      <SrcRect xOff="0" yOff="0" xSize="14320" ySize="10120" />
      <DstRect xOff="281040" yOff="38440" xSize="14320" ySize="10120" />
    </SimpleSource>
    <SimpleSource>
      <SourceFilename relativeToVRT="0">P:\Cartografia\01_Ortofotografia\2025\RGB\H50_0077\PNOA-LIDAR_CyL_2025_rgb_etrs89-hu29_h05_0077_1-6.tif</SourceFilename>
      <SourceBand>1</SourceBand>
      <SourceProperties RasterXSize="14320" RasterYSize="10120" DataType="Byte" BlockXSize="512" BlockYSize="512" />
      <SrcRect xOff="0" yOff="0" xSize="14320" ySize="10120" />
      <DstRect xOff="294000" yOff="19480" xSize="14320" ySize="10120" />
    </SimpleSource>
    <SimpleSource>
      <SourceFilename relativeToVRT="0">P:\Cartografia\01_Ortofotografia\2025\RGB\H50_0077\PNOA-LIDAR_CyL_2025_rgb_etrs89-hu29_h05_0077_1-7.tif</SourceFilename>
      <SourceBand>1</SourceBand>
      <SourceProperties RasterXSize="14320" RasterYSize="10160" DataType="Byte" BlockXSize="512" BlockYSize="512" />
      <SrcRect xOff="0" yOff="0" xSize="14320" ySize="10160" />
      <DstRect xOff="294320" yOff="28720" xSize="14320" ySize="10160" />
    </SimpleSource>
    <SimpleSource>
      <SourceFilename relativeToVRT="0">P:\Cartografia\01_Ortofotografia\2025\RGB\H50_0077\PNOA-LIDAR_CyL_2025_rgb_etrs89-hu29_h05_0077_1-8.tif</SourceFilename>
      <SourceBand>1</SourceBand>
      <SourceProperties RasterXSize="14320" RasterYSize="10160" DataType="Byte" BlockXSize="512" BlockYSize="512" />
      <SrcRect xOff="0" yOff="0" xSize="14320" ySize="10160" />
      <DstRect xOff="294640" yOff="37960" xSize="14320" ySize="10160" />
    </SimpleSource>
    <SimpleSource>
      <SourceFilename relativeToVRT="0">P:\Cartografia\01_Ortofotografia\2025\RGB\H50_0077\PNOA-LIDAR_CyL_2025_rgb_etrs89-hu29_h05_0077_2-5.tif</SourceFilename>
      <SourceBand>1</SourceBand>
      <SourceProperties RasterXSize="14320" RasterYSize="10160" DataType="Byte" BlockXSize="512" BlockYSize="512" />
      <SrcRect xOff="0" yOff="0" xSize="14320" ySize="10160" />
      <DstRect xOff="307280" yOff="9760" xSize="14320" ySize="10160" />
    </SimpleSource>
    <SimpleSource>
      <SourceFilename relativeToVRT="0">P:\Cartografia\01_Ortofotografia\2025\RGB\H50_0077\PNOA-LIDAR_CyL_2025_rgb_etrs89-hu29_h05_0077_2-6.tif</SourceFilename>
      <SourceBand>1</SourceBand>
      <SourceProperties RasterXSize="14360" RasterYSize="10160" DataType="Byte" BlockXSize="512" BlockYSize="512" />
      <SrcRect xOff="0" yOff="0" xSize="14360" ySize="10160" />
      <DstRect xOff="307560" yOff="19000" xSize="14360" ySize="10160" />
    </SimpleSource>
    <SimpleSource>
      <SourceFilename relativeToVRT="0">P:\Cartografia\01_Ortofotografia\2025\RGB\H50_0077\PNOA-LIDAR_CyL_2025_rgb_etrs89-hu29_h05_0077_2-7.tif</SourceFilename>
      <SourceBand>1</SourceBand>
      <SourceProperties RasterXSize="14360" RasterYSize="10160" DataType="Byte" BlockXSize="512" BlockYSize="512" />
      <SrcRect xOff="0" yOff="0" xSize="14360" ySize="10160" />
      <DstRect xOff="307880" yOff="28240" xSize="14360" ySize="10160" />
    </SimpleSource>
    <SimpleSource>
      <SourceFilename relativeToVRT="0">P:\Cartografia\01_Ortofotografia\2025\RGB\H50_0077\PNOA-LIDAR_CyL_2025_rgb_etrs89-hu29_h05_0077_2-8.tif</SourceFilename>
      <SourceBand>1</SourceBand>
      <SourceProperties RasterXSize="14360" RasterYSize="10160" DataType="Byte" BlockXSize="512" BlockYSize="512" />
      <SrcRect xOff="0" yOff="0" xSize="14360" ySize="10160" />
      <DstRect xOff="308200" yOff="37520" xSize="14360" ySize="10160" />
    </SimpleSource>
    <SimpleSource>
      <SourceFilename relativeToVRT="0">P:\Cartografia\01_Ortofotografia\2025\RGB\H50_0077\PNOA-LIDAR_CyL_2025_rgb_etrs89-hu29_h05_0077_3-4.tif</SourceFilename>
      <SourceBand>1</SourceBand>
      <SourceProperties RasterXSize="14320" RasterYSize="10200" DataType="Byte" BlockXSize="512" BlockYSize="512" />
      <SrcRect xOff="0" yOff="0" xSize="14320" ySize="10200" />
      <DstRect xOff="320520" yOff="0" xSize="14320" ySize="10200" />
    </SimpleSource>
    <SimpleSource>
      <SourceFilename relativeToVRT="0">P:\Cartografia\01_Ortofotografia\2025\RGB\H50_0077\PNOA-LIDAR_CyL_2025_rgb_etrs89-hu29_h05_0077_3-5.tif</SourceFilename>
      <SourceBand>1</SourceBand>
      <SourceProperties RasterXSize="14320" RasterYSize="10160" DataType="Byte" BlockXSize="512" BlockYSize="512" />
      <SrcRect xOff="0" yOff="0" xSize="14320" ySize="10160" />
      <DstRect xOff="320840" yOff="9280" xSize="14320" ySize="10160" />
    </SimpleSource>
    <SimpleSource>
      <SourceFilename relativeToVRT="0">P:\Cartografia\01_Ortofotografia\2025\RGB\H50_0077\PNOA-LIDAR_CyL_2025_rgb_etrs89-hu29_h05_0077_3-6.tif</SourceFilename>
      <SourceBand>1</SourceBand>
      <SourceProperties RasterXSize="14320" RasterYSize="10160" DataType="Byte" BlockXSize="512" BlockYSize="512" />
      <SrcRect xOff="0" yOff="0" xSize="14320" ySize="10160" />
      <DstRect xOff="321160" yOff="18520" xSize="14320" ySize="10160" />
    </SimpleSource>
    <SimpleSource>
      <SourceFilename relativeToVRT="0">P:\Cartografia\01_Ortofotografia\2025\RGB\H50_0077\PNOA-LIDAR_CyL_2025_rgb_etrs89-hu29_h05_0077_3-7.tif</SourceFilename>
      <SourceBand>1</SourceBand>
      <SourceProperties RasterXSize="14320" RasterYSize="10200" DataType="Byte" BlockXSize="512" BlockYSize="512" />
      <SrcRect xOff="0" yOff="0" xSize="14320" ySize="10200" />
      <DstRect xOff="321480" yOff="27760" xSize="14320" ySize="10200" />
    </SimpleSource>
    <SimpleSource>
      <SourceFilename relativeToVRT="0">P:\Cartografia\01_Ortofotografia\2025\RGB\H50_0077\PNOA-LIDAR_CyL_2025_rgb_etrs89-hu29_h05_0077_3-8.tif</SourceFilename>
      <SourceBand>1</SourceBand>
      <SourceProperties RasterXSize="14320" RasterYSize="10160" DataType="Byte" BlockXSize="512" BlockYSize="512" />
      <SrcRect xOff="0" yOff="0" xSize="14320" ySize="10160" />
      <DstRect xOff="321800" yOff="37040" xSize="14320" ySize="10160" />
    </SimpleSource>
    <SimpleSource>
      <SourceFilename relativeToVRT="0">P:\Cartografia\01_Ortofotografia\2025\RGB\H50_0077\PNOA-LIDAR_CyL_2025_rgb_etrs89-hu29_h05_0077_4-5.tif</SourceFilename>
      <SourceBand>1</SourceBand>
      <SourceProperties RasterXSize="14320" RasterYSize="10160" DataType="Byte" BlockXSize="512" BlockYSize="512" />
      <SrcRect xOff="0" yOff="0" xSize="14320" ySize="10160" />
      <DstRect xOff="334400" yOff="8800" xSize="14320" ySize="10160" />
    </SimpleSource>
    <SimpleSource>
      <SourceFilename relativeToVRT="0">P:\Cartografia\01_Ortofotografia\2025\RGB\H50_0077\PNOA-LIDAR_CyL_2025_rgb_etrs89-hu29_h05_0077_4-6.tif</SourceFilename>
      <SourceBand>1</SourceBand>
      <SourceProperties RasterXSize="14360" RasterYSize="10160" DataType="Byte" BlockXSize="512" BlockYSize="512" />
      <SrcRect xOff="0" yOff="0" xSize="14360" ySize="10160" />
      <DstRect xOff="334720" yOff="18040" xSize="14360" ySize="10160" />
    </SimpleSource>
    <SimpleSource>
      <SourceFilename relativeToVRT="0">P:\Cartografia\01_Ortofotografia\2025\RGB\H50_0077\PNOA-LIDAR_CyL_2025_rgb_etrs89-hu29_h05_0077_4-7.tif</SourceFilename>
      <SourceBand>1</SourceBand>
      <SourceProperties RasterXSize="14360" RasterYSize="10160" DataType="Byte" BlockXSize="512" BlockYSize="512" />
      <SrcRect xOff="0" yOff="0" xSize="14360" ySize="10160" />
      <DstRect xOff="335040" yOff="27320" xSize="14360" ySize="10160" />
    </SimpleSource>
    <SimpleSource>
      <SourceFilename relativeToVRT="0">P:\Cartografia\01_Ortofotografia\2025\RGB\H50_0077\PNOA-LIDAR_CyL_2025_rgb_etrs89-hu29_h05_0077_4-8.tif</SourceFilename>
      <SourceBand>1</SourceBand>
      <SourceProperties RasterXSize="14360" RasterYSize="10160" DataType="Byte" BlockXSize="512" BlockYSize="512" />
      <SrcRect xOff="0" yOff="0" xSize="14360" ySize="10160" />
      <DstRect xOff="335360" yOff="36560" xSize="14360" ySize="10160" />
    </SimpleSource>
    <SimpleSource>
      <SourceFilename relativeToVRT="0">P:\Cartografia\01_Ortofotografia\2025\RGB\H50_0077\PNOA-LIDAR_CyL_2025_rgb_etrs89-hu29_h05_0077_5-5.tif</SourceFilename>
      <SourceBand>1</SourceBand>
      <SourceProperties RasterXSize="14360" RasterYSize="10160" DataType="Byte" BlockXSize="512" BlockYSize="512" />
      <SrcRect xOff="0" yOff="0" xSize="14360" ySize="10160" />
      <DstRect xOff="347960" yOff="8320" xSize="14360" ySize="10160" />
    </SimpleSource>
    <SimpleSource>
      <SourceFilename relativeToVRT="0">P:\Cartografia\01_Ortofotografia\2025\RGB\H50_0077\PNOA-LIDAR_CyL_2025_rgb_etrs89-hu29_h05_0077_5-6.tif</SourceFilename>
      <SourceBand>1</SourceBand>
      <SourceProperties RasterXSize="14360" RasterYSize="10200" DataType="Byte" BlockXSize="512" BlockYSize="512" />
      <SrcRect xOff="0" yOff="0" xSize="14360" ySize="10200" />
      <DstRect xOff="348280" yOff="17560" xSize="14360" ySize="10200" />
    </SimpleSource>
    <SimpleSource>
      <SourceFilename relativeToVRT="0">P:\Cartografia\01_Ortofotografia\2025\RGB\H50_0077\PNOA-LIDAR_CyL_2025_rgb_etrs89-hu29_h05_0077_5-7.tif</SourceFilename>
      <SourceBand>1</SourceBand>
      <SourceProperties RasterXSize="14320" RasterYSize="10200" DataType="Byte" BlockXSize="512" BlockYSize="512" />
      <SrcRect xOff="0" yOff="0" xSize="14320" ySize="10200" />
      <DstRect xOff="348640" yOff="26800" xSize="14320" ySize="10200" />
    </SimpleSource>
    <SimpleSource>
      <SourceFilename relativeToVRT="0">P:\Cartografia\01_Ortofotografia\2025\RGB\H50_0077\PNOA-LIDAR_CyL_2025_rgb_etrs89-hu29_h05_0077_5-8.tif</SourceFilename>
      <SourceBand>1</SourceBand>
      <SourceProperties RasterXSize="14360" RasterYSize="10160" DataType="Byte" BlockXSize="512" BlockYSize="512" />
      <SrcRect xOff="0" yOff="0" xSize="14360" ySize="10160" />
      <DstRect xOff="348960" yOff="36080" xSize="14360" ySize="10160" />
    </SimpleSource>
    <SimpleSource>
      <SourceFilename relativeToVRT="0">P:\Cartografia\01_Ortofotografia\2025\RGB\H50_0099\PNOA-LIDAR_CyL_2025_rgb_etrs89-hu29_h05_0099_8-4.tif</SourceFilename>
      <SourceBand>1</SourceBand>
      <SourceProperties RasterXSize="14280" RasterYSize="10040" DataType="Byte" BlockXSize="512" BlockYSize="512" />
      <SrcRect xOff="0" yOff="0" xSize="14280" ySize="10040" />
      <DstRect xOff="64680" yOff="81880" xSize="14280" ySize="10040" />
    </SimpleSource>
    <SimpleSource>
      <SourceFilename relativeToVRT="0">P:\Cartografia\01_Ortofotografia\2025\RGB\H50_0099\PNOA-LIDAR_CyL_2025_rgb_etrs89-hu29_h05_0099_8-5.tif</SourceFilename>
      <SourceBand>1</SourceBand>
      <SourceProperties RasterXSize="14280" RasterYSize="10040" DataType="Byte" BlockXSize="512" BlockYSize="512" />
      <SrcRect xOff="0" yOff="0" xSize="14280" ySize="10040" />
      <DstRect xOff="64920" yOff="91120" xSize="14280" ySize="10040" />
    </SimpleSource>
    <SimpleSource>
      <SourceFilename relativeToVRT="0">P:\Cartografia\01_Ortofotografia\2025\RGB\H50_0099\PNOA-LIDAR_CyL_2025_rgb_etrs89-hu29_h05_0099_8-6.tif</SourceFilename>
      <SourceBand>1</SourceBand>
      <SourceProperties RasterXSize="14320" RasterYSize="10040" DataType="Byte" BlockXSize="512" BlockYSize="512" />
      <SrcRect xOff="0" yOff="0" xSize="14320" ySize="10040" />
      <DstRect xOff="65120" yOff="100360" xSize="14320" ySize="10040" />
    </SimpleSource>
    <SimpleSource>
      <SourceFilename relativeToVRT="0">P:\Cartografia\01_Ortofotografia\2025\RGB\H50_0099\PNOA-LIDAR_CyL_2025_rgb_etrs89-hu29_h05_0099_8-7.tif</SourceFilename>
      <SourceBand>1</SourceBand>
      <SourceProperties RasterXSize="14280" RasterYSize="10040" DataType="Byte" BlockXSize="512" BlockYSize="512" />
      <SrcRect xOff="0" yOff="0" xSize="14280" ySize="10040" />
      <DstRect xOff="65360" yOff="109640" xSize="14280" ySize="10040" />
    </SimpleSource>
    <SimpleSource>
      <SourceFilename relativeToVRT="0">P:\Cartografia\01_Ortofotografia\2025\RGB\H50_0099\PNOA-LIDAR_CyL_2025_rgb_etrs89-hu29_h05_0099_8-8.tif</SourceFilename>
      <SourceBand>1</SourceBand>
      <SourceProperties RasterXSize="14280" RasterYSize="10040" DataType="Byte" BlockXSize="512" BlockYSize="512" />
      <SrcRect xOff="0" yOff="0" xSize="14280" ySize="10040" />
      <DstRect xOff="65600" yOff="118880" xSize="14280" ySize="10040" />
    </SimpleSource>
    <SimpleSource>
